BEGIN:VCALENDAR
VERSION:2.0
PRODID:-//JVH - ECPv6.15.20//NONSGML v1.0//EN
CALSCALE:GREGORIAN
METHOD:PUBLISH
X-ORIGINAL-URL:https://jugendverein-herrieden.de
X-WR-CALDESC:Veranstaltungen für JVH
REFRESH-INTERVAL;VALUE=DURATION:PT1H
X-Robots-Tag:noindex
X-PUBLISHED-TTL:PT1H
BEGIN:VTIMEZONE
TZID:Europe/Berlin
BEGIN:DAYLIGHT
TZOFFSETFROM:+0100
TZOFFSETTO:+0200
TZNAME:CEST
DTSTART:20220327T010000
END:DAYLIGHT
BEGIN:STANDARD
TZOFFSETFROM:+0200
TZOFFSETTO:+0100
TZNAME:CET
DTSTART:20221030T010000
END:STANDARD
BEGIN:DAYLIGHT
TZOFFSETFROM:+0100
TZOFFSETTO:+0200
TZNAME:CEST
DTSTART:20230326T010000
END:DAYLIGHT
BEGIN:STANDARD
TZOFFSETFROM:+0200
TZOFFSETTO:+0100
TZNAME:CET
DTSTART:20231029T010000
END:STANDARD
BEGIN:DAYLIGHT
TZOFFSETFROM:+0100
TZOFFSETTO:+0200
TZNAME:CEST
DTSTART:20240331T010000
END:DAYLIGHT
BEGIN:STANDARD
TZOFFSETFROM:+0200
TZOFFSETTO:+0100
TZNAME:CET
DTSTART:20241027T010000
END:STANDARD
BEGIN:DAYLIGHT
TZOFFSETFROM:+0100
TZOFFSETTO:+0200
TZNAME:CEST
DTSTART:20250330T010000
END:DAYLIGHT
BEGIN:STANDARD
TZOFFSETFROM:+0200
TZOFFSETTO:+0100
TZNAME:CET
DTSTART:20251026T010000
END:STANDARD
BEGIN:DAYLIGHT
TZOFFSETFROM:+0100
TZOFFSETTO:+0200
TZNAME:CEST
DTSTART:20260329T010000
END:DAYLIGHT
BEGIN:STANDARD
TZOFFSETFROM:+0200
TZOFFSETTO:+0100
TZNAME:CET
DTSTART:20261025T010000
END:STANDARD
BEGIN:DAYLIGHT
TZOFFSETFROM:+0100
TZOFFSETTO:+0200
TZNAME:CEST
DTSTART:20270328T010000
END:DAYLIGHT
BEGIN:STANDARD
TZOFFSETFROM:+0200
TZOFFSETTO:+0100
TZNAME:CET
DTSTART:20271031T010000
END:STANDARD
END:VTIMEZONE
BEGIN:VEVENT
DTSTART;TZID=Europe/Berlin:20260224T183000
DTEND;TZID=Europe/Berlin:20260224T183000
DTSTAMP:20260421T150900
CREATED:20260125T165224Z
LAST-MODIFIED:20260125T165239Z
UID:1573-1771957800-1771957800@jugendverein-herrieden.de
SUMMARY:Kneipenquiz zum Thema Demokratie
DESCRIPTION:Wir laden Jugendliche und junge Erwachsene herzlich zu einem Kneipenquiz zum Thema Demokratie ein. \nIn Teams von 2 bis 6 Personen tretet ihr gegeneinander an\, beantwortet spannende Fragen und sammelt Punkte. \nNeben Spaß und Teamgeist warten Preise für die ersten drei Plätze sowie ein Getränkespecial für Jugendliche auf euch.
URL:https://jugendverein-herrieden.de/event/kneipenquiz-zum-thema-demokratie/
LOCATION:Genießerei Herrieden\, Vogteiweg 2\, Herrieden\, Bayern\, 91567
END:VEVENT
BEGIN:VEVENT
DTSTART;TZID=Europe/Berlin:20251207T140000
DTEND;TZID=Europe/Berlin:20251207T183000
DTSTAMP:20260421T150900
CREATED:20250523T071046Z
LAST-MODIFIED:20251120T165059Z
UID:1294-1765116000-1765132200@jugendverein-herrieden.de
SUMMARY:FC26 Turnier
DESCRIPTION:Herzlich willkommen zum EA FC26-Turnier am 7. Dezember 2025! \n \nWir laden euch herzlich ein zum großen EA SPORTS FC-Turnier\, das am Sonntag\, den 7. Dezember 2025\, ab 14:00 Uhr im besonderen Ambiente des Stadtschlosses Herrieden (Ratssaal) stattfindet. \nGespielt wird natürlich EA FC – seid also bereit für spannende Matches mit den neuesten Features und Teams!\nDieses Jahr gibt es auch Mario Kart und Retro-Games \nDas Turnier richtet sich in erster Linie an Jugendliche und junge Erwachsene\, aber auch alle anderen sind herzlich eingeladen\, ihr Können zu zeigen. \nTurnierdetails:📅 Datum: Sonntag\, 7. Dezember 2025🕑 Start: 14:00 Uhr📍 Ort: Stadtschloss Herrieden\, Ratssaal \n🍕 Verpflegung:Es gibt vor Ort Getränke\, sowie Pizza\, damit ihr während des Turniers gut versorgt seid. \n🏆 Preise:Die besten Teams und Einzelspieler dürfen sich auf tolle Gewinne freuen unteranderm: \n• 1× PS5 FIFA• 1× Champions League 25/26 Paket• 1× Pokémon Festtagskalender 2025• TeamSport-Franken Pakete & Gutscheine \nWir freuen uns auf einen sportlichen Nachmittag mit viel Spaß\, spannenden Spielen und guter Atmosphäre. Leitet diese Einladung gerne weiter an alle Gaming-Fans. \n🎮 Anmeldung:Meldet euer 2er-Team jetzt an. \n\n \n\n\n\nTeamname *\n\n\n\n\nVorname (1. Teammitglied) *\n\n\nNachname (1. Teammitglied) *\n\n\n\n\nVornname (2. Teammitglied) *\n\n\nNachname (2. Teammitglied) *\n\n\n\n\nE-Mail *\n\n\n\n\nTelefon *\n\n\n\n\nController: *Bitte auswählen:Wir bringen einen eigenen Controller mit!Wir bringen zwei eigene Controller mit!Wir haben leider keinen Controller.\n\n\n \n\n\nFür das FC26-Turnier registrieren\n\n\nBitte fülle dieses Feld nicht aus. \n \nBis bald – am 7. Dezember im Stadtschloss!Euer Team vom Jugendverein Herrieden
URL:https://jugendverein-herrieden.de/event/fc26-turnier/
LOCATION:Stadtschloss im Ratssaal\, Vogteiplatz 8-10\, Herrieden\, 91567\, Deutschland
END:VEVENT
BEGIN:VEVENT
DTSTART;TZID=Europe/Berlin:20251010T140000
DTEND;TZID=Europe/Berlin:20251010T180000
DTSTAMP:20260421T150900
CREATED:20250926T170818Z
LAST-MODIFIED:20250926T171626Z
UID:1552-1760104800-1760119200@jugendverein-herrieden.de
SUMMARY:Küchle-Backkurs
DESCRIPTION:Gemeinsam mit den Seniorenbeauftragten der Stadt Herrieden laden wir euch herzlich zu einem besonderen Kurs ein: dem traditionellen fränkischen Küchle-Backkurs! \n📅 Datum: Freitag\, 10. Oktober 2025⏰ Uhrzeit: 14:00 – ca. 18:00 Uhr📍 Ort: Schulküche Mittelschule Herrieden \nUnter der Anleitung von Sonja Wahler lernt ihr Schritt für Schritt\, wie der Teig angerührt\, „gehen gelassen“ und anschließend mit dem traditionellen Küchlepilz ausgezogen wird. Danach werden die Küchle frisch in heißem Fett ausgebacken – und natürlich darf jeder Teilnehmerin die eigenen Werke mit nach Hause nehmen. \nBitte bringt zwei Geschirrtücher für den Eigengebrauch mit. Um alle weiteren Materialien kümmern wir uns. Während der Gehzeit des Teiges gibt es eine gemütliche Kaffee- oder Teepause. \nUns ist es wichtig\, dass altes fränkisches Handwerk nicht in Vergessenheit gerät – deshalb freuen wir uns besonders\, diesen Kurs gemeinsam mit den Seniorenbeauftragten zu gestalten und Wissen an Jung und Alt weiterzugeben. \nAnmeldung\nDie Teilnehmerzahl ist begrenzt – sichert euch schnell euren Platz!👉 Hier direkt anmelden \n\n \n\n\n\nVorname *\n\n\n\n\nNachname *\n\n\n\n\nE-Mail-Adresse *\n\n\n\n\nTelefonnummer\n\n\n \n\n\nAbsenden
URL:https://jugendverein-herrieden.de/event/kuechle-backkurs/
LOCATION:Schulküche Mittelschule Herrieden\, Steinweg 8\, Herrieden\, Bayern\, 91567\, Germany
END:VEVENT
BEGIN:VEVENT
DTSTART;TZID=Europe/Berlin:20250808T170000
DTEND;TZID=Europe/Berlin:20250808T170000
DTSTAMP:20260421T150900
CREATED:20250523T070044Z
LAST-MODIFIED:20250704T111327Z
UID:1289-1754672400-1754672400@jugendverein-herrieden.de
SUMMARY:Sonne\, Mond und Störche
DESCRIPTION:🌞🌝🕊 Sonne\, Mond & Störche – Sundowner SessionFreitag\, 08.08. | 17–24 Uhr📍 Pausenhof der Wolfhardschule\, Deocarplatz 1\, HerriedenEintritt frei \nIm Rahmen des Herrieder Musikwochenendes feiern wir mit euch den Sommer:Sonne\, Mond & Störche – das heißt: entspannte Stimmung\, elektronische Sounds und eine Location mit ganz eigenem Flair. \n🎶 Boiler-Room-Style DJ-Session mit: \nMarco Intensa\nDJ Decent Rude\n& Friends \n🕔 Happy Hour bis 19 Uhr – früh da sein lohnt sich!Lasst euch treiben\, tanzt in den Sonnenuntergang und genießt den Abend unter freiem Himmel. \nBring deine Crew mit – wir freuen uns auf euch!
URL:https://jugendverein-herrieden.de/event/musikwochenende25/
LOCATION:Pausenhof der Wolfhardschule\, Deocarplatz 1\, Herrieden\, 91567\, Germany
END:VEVENT
BEGIN:VEVENT
DTSTART;TZID=Europe/Berlin:20250720T160000
DTEND;TZID=Europe/Berlin:20250720T200000
DTSTAMP:20260421T150900
CREATED:20250523T071848Z
LAST-MODIFIED:20250704T120918Z
UID:1297-1753027200-1753041600@jugendverein-herrieden.de
SUMMARY:Beerpong Turnier am Altstadtfest
DESCRIPTION:Beerpong-Turnier beim Altstadtfest Herrieden! 🍻🏓 \nDer Jugendverein Herrieden lädt euch herzlich ein zum Beerpong-Turnier im Rahmen des Altstadtfests! \n📍 Ort: Marktplatz 17\, Herrieden👥 Modus: 2er-Teams🎯 Anmeldung: Hier klicken! \nGespielt wird auf den vom Jugendverein gestellten Spielfeldern\, und auch die Turnierorganisation übernehmen wir für euch. Alles\, was ihr braucht\, ist eine Teampartner:in – und gute Laune! \n🍹 Wichtig:Die Getränke könnt ihr ganz entspannt an den offiziellen Ausschänken des Altstadtfests holen – ihr entscheidet selbst\, was ihr trinken wollt. Ob Wasser\, Limo\, Bier oder etwas anderes – alles ist erlaubt. \n🎶 Mit dabei: DJ Marco Intensa bringt euch während des Turniers die passenden Beats – entspannt\, tanzbar\, sommerlich. Beerpong mit Soundtrack! \nKommt vorbei\, macht mit oder schaut einfach zu und genießt die Atmosphäre. Ob ehrgeizig oder just for fun – Hauptsache\, ihr seid dabei! \nAnmeldung vor Ort oder vorab möglich. \nWir freuen uns auf euch!Euer Jugendverein Herrieden
URL:https://jugendverein-herrieden.de/event/beerpong-turnier-am-altstadtfest/
LOCATION:Marktplatz 17\, Marktplatz 17\, Herrieden\, Bayern\, 91567\, Germany
END:VEVENT
BEGIN:VEVENT
DTSTART;TZID=Europe/Berlin:20250621T140000
DTEND;TZID=Europe/Berlin:20250621T170000
DTSTAMP:20260421T150900
CREATED:20250523T063417Z
LAST-MODIFIED:20250523T063417Z
UID:1281-1750514400-1750525200@jugendverein-herrieden.de
SUMMARY:Jugendverbändetag und Cafe Int. am Tag der Offenen Gesellschaft
DESCRIPTION:„Feiern verbindet“-JugendverbändetagamTag der Offenen Gesellschaft \n21.6.2025 von 14-17 Uhr im Parkbad Herrieden \nDer Jugendverbändetag wird jährlich vom Kreisjugendring Ansbach organisiert und findet heuer am bundesweiten Tag der Offenen Gesellschaft zusammen mit dem Cafe Internationalin Herrieden statt. Veranstalter: Kreisjugendring Ansbach-Stadt Herrieden-Netzwerk WELTOFFEN LEBEN unter Mitwirkung von Herrieder Vereinen und Verbänden.Sie gestalten den bunten Nachmittag im Parkbad mit\, der um 14 Uhr von Bürgermeisterin Dorina Jechnerer als Schirmherrin eröffnet wird. Die Vereine präsentieren ihre Angebote und stellen somit ihr Engagement für Kinder und Jugendliche vor. Als zusätzlicher Anreiz werden die verschiedenen Mitmachaktionenmit einem Gewinnspiel verknüpft. Die Verlosung findet hierfür um 16.30 Uhr statt. Außerdem lädt an dem Tag die Volleyballabteilung der SG TSV/DJK Herrieden zu ihrem traditionellen Beachvolleyballturnier ein. Die genauen Spielzeiten werden noch bekanntgegeben. \nMit der Kooperation möchten die Veranstaltenden für eine weltoffene\, tolerante Gesellschaft und für das lebenswerte Miteinander\, nicht nur für die Jugend\, hier in Herrieden werben. So passt das Motto  „Feiern verbindet“\, das die Initiative „Tag der Offenen Gesellschaft“ für 2025 ausgerufen hat\, perfekt für den gemeinsamen Nachmittag! Also einfach mitmachen\, miteinander Aktivsein\, Neues ausprobieren\, sich begegnen\, kennenlernen und Spaß haben im Herrieder Parkbad. Ansprechpersonen: Debora Kölli-Kreisjugendring Ansbach&Beate Jerger-kommunale Integrationsarbeit Herrieden und Aurach/Caritas-Kreisstelle www.kjr-ansbach.de/de/projekte/jugendverbaendetag.php
URL:https://jugendverein-herrieden.de/event/jugendverbaendetag-und-cafe-int-am-tag-der-offenen-gesellschaft/
LOCATION:Freibad Herrieden\, Parkbad Herrieden Steinweg 12\, Herrieden\, Bayern\, 91567\, Germany
END:VEVENT
BEGIN:VEVENT
DTSTART;TZID=Europe/Berlin:20231210T140000
DTEND;TZID=Europe/Berlin:20231210T140000
DTSTAMP:20260421T150900
CREATED:20231018T100011Z
LAST-MODIFIED:20240222T154032Z
UID:445-1702216800-1702216800@jugendverein-herrieden.de
SUMMARY:FIFA/FC24 Turnier
DESCRIPTION:Herzlich willkommen zum FIFA/FC24 Turnier am 10. Dezember 2023!\n  \nWir laden euch herzlich ein\, an unserem aufregenden FIFA/FC24 Turnier teilzunehmen\, das am 10. Dezember 2023 um 14:00 Uhr im beeindruckenden Ambiente des Stadtschlosses im Ratssaal stattfindet. \nDieses Event ist in erster Linie auf Jugendliche und junge Erwachsene ausgerichtet\, aber wir freuen uns gleichermaßen auf Teilnehmer aller Altersgruppen\, die sich sportlicher Herausforderungen stellen möchten. \nTurnierdetails:\nDatum: 10. Dezember 2023\nUhrzeit: Ab 14:00 Uhr\nOrt: Stadtschloss im Ratssaal \n  \nEuer 2er Team könnt ihr hier anmelden. \nWenn möglich\, bringt eure eigenen Controller mit und markiert sie. \n  \nDoch das ist noch nicht alles – wir sorgen für euer leibliches Wohl. \nVor Ort könnt ihr erfrischende Getränke\, köstliche Döner und Pizza kaufen\, um euch während des Turniers zu stärken. \n  \nUnd das Highlight: \nEs warten großartige Preise auf die besten Teams und Einzelspieler\, um eure sportlichen Leistungen zu belohnen. Seid bereit\, euer Können unter Beweis zu stellen und tolle Belohnungen zu gewinnen! \nWir freuen uns auf ein packendes Turnier voller aufregender Matches\, sportlicher Herausforderungen und Gemeinschaftsgeist. Bitte teilt diese Einladung mit allen\, die sich für Gaming und Wettkämpfe begeistern. \n  \nFalls ihr weitere Informationen benötigt oder Fragen habt\, zögert nicht\, uns unter info@jugendverein-herrieden.de zu kontaktieren. \nWir können es kaum erwarten\, euch am 10. Dezember zu begrüßen und gemeinsam ein unvergessliches Turnier zu erleben! \n  \nEuer Team vom Jugendverein Herrieden
URL:https://jugendverein-herrieden.de/event/fifa-turnier/
LOCATION:Stadtschloss im Ratssaal\, Vogteiplatz 8-10\, Herrieden\, 91567\, Deutschland
END:VEVENT
BEGIN:VEVENT
DTSTART;TZID=Europe/Berlin:20230729T200000
DTEND;TZID=Europe/Berlin:20230730T030000
DTSTAMP:20260421T150901
CREATED:20230708T082536Z
LAST-MODIFIED:20230721T062724Z
UID:312-1690660800-1690686000@jugendverein-herrieden.de
SUMMARY:HERRIEDEN TANZT
DESCRIPTION:HERRIEDEN TANZT \nZum ersten Mal\, doch jetzt schon Kult. Wir bringen euch für eine Nacht die Sommer & Festival Vibes nach Herrieden. Mit den Hits deines Sommers – FEIERN wir bis zum Umfallen!!!!!\nGeile Leute\, Eskalation\, Fette Beats und ein ordentlicher Hangover\, sind die Zutaten für eine geile Sommer Party !\nHERRIEDEN TANZT\, die Veranstaltung\, von der Ihr immer geträumt habt.\nAlso feiert mit uns\, am 29.07.2023 die größte und erste Open Air Party in Herrieden .\nLasst uns den Sommer 2023 gemeinsam unvergesslich machen….\nJetzt schon zusagen um nichts zu verpassen! \n#Wir bieten euch:\n 3 verschiedene Bars\n Food Area\n Hammer DJ Line Up\n Mega Sound und Lichtsystem/Festival Bühne\n Giveaways\n Festival Stimmung garantiert\n#DJ LINE UP\nDJbeMagic & DJ Magixx\nSie sind am Start mit dem Besten und Neusten aus….\nHouse\, Hip-Hop\, die Hits des Sommers und den besten Partysound.\nBekannt sind Sie von unzähligen Partys\, da ihr Name einfach nur Programm ist……\nMit absoluter ESKALATIONS GARANTIE machen Sie jede Party zum absoluten HIGHLIGHT !!!\n\n#Einlasskriterien\nEinlass ab 20:00 Uhr.\nKein Einlass unter 16 Jahren.\n2 Aufsichtsübertragungen pro ü18 Jährigem erlaubt.\n#Weiter Infos Folgen!!!!\nweitersagen und teilen erwünscht\n*Alle Angaben ohne Gewähr*
URL:https://jugendverein-herrieden.de/event/herriedentanzt/
END:VEVENT
END:VCALENDAR