BEGIN:VCALENDAR
VERSION:2.0
PRODID:-//JVH - ECPv6.15.20//NONSGML v1.0//EN
CALSCALE:GREGORIAN
METHOD:PUBLISH
X-ORIGINAL-URL:https://jugendverein-herrieden.de
X-WR-CALDESC:Veranstaltungen für JVH
REFRESH-INTERVAL;VALUE=DURATION:PT1H
X-Robots-Tag:noindex
X-PUBLISHED-TTL:PT1H
BEGIN:VTIMEZONE
TZID:Europe/Berlin
BEGIN:DAYLIGHT
TZOFFSETFROM:+0100
TZOFFSETTO:+0200
TZNAME:CEST
DTSTART:20250330T010000
END:DAYLIGHT
BEGIN:STANDARD
TZOFFSETFROM:+0200
TZOFFSETTO:+0100
TZNAME:CET
DTSTART:20251026T010000
END:STANDARD
BEGIN:DAYLIGHT
TZOFFSETFROM:+0100
TZOFFSETTO:+0200
TZNAME:CEST
DTSTART:20260329T010000
END:DAYLIGHT
BEGIN:STANDARD
TZOFFSETFROM:+0200
TZOFFSETTO:+0100
TZNAME:CET
DTSTART:20261025T010000
END:STANDARD
BEGIN:DAYLIGHT
TZOFFSETFROM:+0100
TZOFFSETTO:+0200
TZNAME:CEST
DTSTART:20270328T010000
END:DAYLIGHT
BEGIN:STANDARD
TZOFFSETFROM:+0200
TZOFFSETTO:+0100
TZNAME:CET
DTSTART:20271031T010000
END:STANDARD
END:VTIMEZONE
BEGIN:VEVENT
DTSTART;TZID=Europe/Berlin:20260807T190000
DTEND;TZID=Europe/Berlin:20260808T010000
DTSTAMP:20260421T193240
CREATED:20260125T165634Z
LAST-MODIFIED:20260125T165634Z
UID:1578-1786129200-1786150800@jugendverein-herrieden.de
SUMMARY:Sonne\, Mond und Störche
DESCRIPTION:Entspannte Sommerstimmung\, elektronische Sounds und Tanzen unter freiem Himmel – Eintritt frei! \nWir feiern mit euch den Sommer bei Sonne\, Mond & Störche – Sundowner Session. \nFreut euch auf eine besondere Open-Air-Location\, lockere Atmosphäre und elektronische Musik im Boiler-Room-Style. \nLasst euch treiben\, tanzt in den Sonnenuntergang und genießt den Abend bis in die Nacht – gemeinsam mit eurer Crew\, unter Sonne\, Mond und Störchen.
URL:https://jugendverein-herrieden.de/event/sonne-mond-und-stoerche/
LOCATION:Pausenhof der Wolfhardschule\, Deocarplatz 1\, Herrieden\, 91567\, Germany
END:VEVENT
END:VCALENDAR